NAME	= Valley Depth
DESCRIPTION	=
UNIT	=
DATAFORMAT	= FLOAT
DATAFILE_OFFSET	= 0
BYTEORDER_BIG	= FALSE
TOPTOBOTTOM	= FALSE
POSITION_XMIN	= 500259.7725001316
POSITION_YMIN	= 7546399.9339068271
CELLCOUNT_X	= 7318
CELLCOUNT_Y	= 6746
CELLSIZE	= 90.0000000000
Z_FACTOR	= 1.000000
Z_OFFSET	= 0.000000
NODATA_VALUE	= -99999.000000;-99999.000000
